BEGIN:VCALENDAR
VERSION:2.0
PRODID:-//Darkspace Press - ECPv6.15.20//NONSGML v1.0//EN
CALSCALE:GREGORIAN
METHOD:PUBLISH
X-ORIGINAL-URL:https://www.darkspace.press
X-WR-CALDESC:Events for Darkspace Press
REFRESH-INTERVAL;VALUE=DURATION:PT1H
X-Robots-Tag:noindex
X-PUBLISHED-TTL:PT1H
BEGIN:VTIMEZONE
TZID:America/New_York
BEGIN:DAYLIGHT
TZOFFSETFROM:-0500
TZOFFSETTO:-0400
TZNAME:EDT
DTSTART:20240310T070000
END:DAYLIGHT
BEGIN:STANDARD
TZOFFSETFROM:-0400
TZOFFSETTO:-0500
TZNAME:EST
DTSTART:20241103T060000
END:STANDARD
BEGIN:DAYLIGHT
TZOFFSETFROM:-0500
TZOFFSETTO:-0400
TZNAME:EDT
DTSTART:20250309T070000
END:DAYLIGHT
BEGIN:STANDARD
TZOFFSETFROM:-0400
TZOFFSETTO:-0500
TZNAME:EST
DTSTART:20251102T060000
END:STANDARD
BEGIN:DAYLIGHT
TZOFFSETFROM:-0500
TZOFFSETTO:-0400
TZNAME:EDT
DTSTART:20260308T070000
END:DAYLIGHT
BEGIN:STANDARD
TZOFFSETFROM:-0400
TZOFFSETTO:-0500
TZNAME:EST
DTSTART:20261101T060000
END:STANDARD
BEGIN:DAYLIGHT
TZOFFSETFROM:-0500
TZOFFSETTO:-0400
TZNAME:EDT
DTSTART:20270314T070000
END:DAYLIGHT
BEGIN:STANDARD
TZOFFSETFROM:-0400
TZOFFSETTO:-0500
TZNAME:EST
DTSTART:20271107T060000
END:STANDARD
END:VTIMEZONE
BEGIN:VEVENT
DTSTART;TZID=America/New_York:20260319T080000
DTEND;TZID=America/New_York:20260322T170000
DTSTAMP:20260422T101124
CREATED:20250316T181756Z
LAST-MODIFIED:20250316T183119Z
UID:8107-1773907200-1774198800@www.darkspace.press
SUMMARY:Darkspace Press -- Megacon (Orlando\, FL) [tentative]
DESCRIPTION:
URL:https://www.darkspace.press/event/darkspace-press-megacon-orlando-fl-tentative/
LOCATION:FL
END:VEVENT
BEGIN:VEVENT
DTSTART;TZID=America/New_York:20250926T000000
DTEND;TZID=America/New_York:20250928T235959
DTSTAMP:20260422T101124
CREATED:20250520T163447Z
LAST-MODIFIED:20250520T163447Z
UID:8216-1758844800-1759103999@www.darkspace.press
SUMMARY:Darkspace Press - FanBoy Expo Orlando
DESCRIPTION:
URL:https://www.darkspace.press/event/darkspace-press-fanboy-expo-orlando/
LOCATION:Orange County Convention Center\, 9800 International Dr\, Orlando\, FL\, United States
END:VEVENT
END:VCALENDAR